BEGIN:VCALENDAR
VERSION:2.0
PRODID:-//wp-events-plugin.com//7.2.3.1//EN
TZID:Europe/Paris
X-WR-TIMEZONE:Europe/Paris
BEGIN:VEVENT
UID:25@formation.cma-normandie.fr
DTSTART;TZID=Europe/Paris;VALUE=DATE:20250912
DTEND;TZID=Europe/Paris;VALUE=DATE:20250915
DTSTAMP:20250722T093429Z
URL:https://formation.cma-normandie.fr/agenda/foire-de-lessay/
SUMMARY:Foire de Lessay
DESCRIPTION:\nDurant 3 jours\, du 12 au 14 septembre 2025\, la petite vill
 e de Lessay se métamorphosera.\nLa Foire de Lessay est un événement mil
 lénaire\, une grande fête agricole et populaire.\nLa foire accueille gé
 néralement 250 000 visiteurs sur 3 jours !\n\n\n\nA cette occasion\, CMA 
 Formation IFORM proposera diverses animations tout au long du week-end.\n
 \n\nPlus d'infos
ATTACH;FMTTYPE=image/jpeg:https://formation.cma-normandie.fr/wp-content/up
 loads/2025/07/bandeau-pour-signature-de-mail-et-facebook-scaled.jpg
CATEGORIES:Coutances
END:VEVENT
BEGIN:VTIMEZONE
TZID:Europe/Paris
X-LIC-LOCATION:Europe/Paris
BEGIN:DAYLIGHT
DTSTART:20250330T030000
TZOFFSETFROM:+0100
TZOFFSETTO:+0200
TZNAME:CEST
END:DAYLIGHT
END:VTIMEZONE
END:VCALENDAR